BEGIN:VCALENDAR
VERSION:2.0
PRODID:-//Godoy Cruz - ECPv4.5.8.1//NONSGML v1.0//EN
CALSCALE:GREGORIAN
METHOD:PUBLISH
X-WR-CALNAME:Godoy Cruz
X-ORIGINAL-URL:https://www.godoycruz.sisargentina.com
X-WR-CALDESC:Events for Godoy Cruz
BEGIN:VEVENT
DTSTART;TZID=UTC-3:20191109T203000
DTEND;TZID=UTC-3:20191109T203000
DTSTAMP:20260424T030842
CREATED:20191106T173847Z
LAST-MODIFIED:20191106T173847Z
UID:64261-1573331400-1573331400@www.godoycruz.sisargentina.com
SUMMARY:Vendimias Distritales de Godoy Cruz
DESCRIPTION:[vc_row][vc_column][vc_column_text]Villa del Parque. \nPoli Social y Deportivo Nº 20 “Chuquisaca” (Chuquisaca 600). \nActo central\, elección y coronación de la reina distrital.[/vc_column_text][/vc_column][/vc_row][vc_row][vc_column][vc_single_image image=»64262″ img_size=»full»][/vc_column][/vc_row] \n
URL:https://www.godoycruz.sisargentina.com/evento/vendimias-distritales-godoy-cruz-17/
ATTACH;FMTTYPE=image/jpeg:https://www.godoycruz.sisargentina.com/wp-content/uploads/2019/11/WhatsApp-Image-2019-11-06-at-09.44.32.jpeg
END:VEVENT
END:VCALENDAR