BEGIN:VCALENDAR
VERSION:2.0
PRODID:-//Godoy Cruz - ECPv4.5.8.1//NONSGML v1.0//EN
CALSCALE:GREGORIAN
METHOD:PUBLISH
X-WR-CALNAME:Godoy Cruz
X-ORIGINAL-URL:https://www.godoycruz.sisargentina.com
X-WR-CALDESC:Events for Godoy Cruz
BEGIN:VEVENT
DTSTART;TZID=UTC-3:20191120T203000
DTEND;TZID=UTC-3:20191120T203000
DTSTAMP:20260424T030955
CREATED:20191105T150942Z
LAST-MODIFIED:20191105T150942Z
UID:64215-1574281800-1574281800@www.godoycruz.sisargentina.com
SUMMARY:Vendimias Distritales de Godoy Cruz
DESCRIPTION:[vc_row][vc_column][vc_column_text]Las Tortugas. \nPlayón Nuestra Señora de Guadalupe (Roca y Piedra Buena). \nActo central\, elección y coronación de la reina distrital.[/vc_column_text][/vc_column][/vc_row][vc_row][vc_column][vc_single_image image=»64216″ img_size=»full»][/vc_column][/vc_row] \n
URL:https://www.godoycruz.sisargentina.com/evento/vendimias-distritales-godoy-cruz-11/
ATTACH;FMTTYPE=image/jpeg:https://www.godoycruz.sisargentina.com/wp-content/uploads/2019/11/vENDIMIA-2020-20-11-tortugas.jpg
END:VEVENT
END:VCALENDAR