BEGIN:VCALENDAR
VERSION:2.0
PRODID:-//Godoy Cruz - ECPv4.5.8.1//NONSGML v1.0//EN
CALSCALE:GREGORIAN
METHOD:PUBLISH
X-WR-CALNAME:Godoy Cruz
X-ORIGINAL-URL:https://www.godoycruz.sisargentina.com
X-WR-CALDESC:Events for Godoy Cruz
BEGIN:VEVENT
DTSTART;TZID=UTC-3:20171102T200000
DTEND;TZID=UTC-3:20171102T200000
DTSTAMP:20260425T234552
CREATED:20171102T133219Z
LAST-MODIFIED:20171102T140045Z
UID:43663-1509652800-1509652800@www.godoycruz.sisargentina.com
SUMMARY:Vendimias Distritales: CENTRO
DESCRIPTION:[vc_row][vc_column][vc_column_text]Espectáculo artístico y coronación.[/vc_column_text][/vc_column][/vc_row][vc_row][vc_column][vc_single_image image=»43664″ img_size=»full»][/vc_column][/vc_row][vc_row][vc_column][vc_gmaps link=»#E-8_JTNDaWZyYW1lJTIwc3JjJTNEJTIyaHR0cHMlM0ElMkYlMkZ3d3cuZ29vZ2xlLmNvbSUyRm1hcHMlMkZlbWJlZCUzRnBiJTNEJTIxMW0xOCUyMTFtMTIlMjExbTMlMjExZDMzNDguOTc0MTY5ODk4ODc2JTIxMmQtNjguODQ2NTg1NDg1MTk5JTIxM2QtMzIuOTI1MjgwNjgwOTI3NDQlMjEybTMlMjExZjAlMjEyZjAlMjEzZjAlMjEzbTIlMjExaTEwMjQlMjEyaTc2OCUyMTRmMTMuMSUyMTNtMyUyMTFtMiUyMTFzMHg5NjdlMGJkODc4MzY2YWMxJTI1M0EweDVmNDYyZTJhNTEwZWFkMDUlMjEyc1BsYXphJTJCR29kb3klMkJDcnV6JTIxNWUwJTIxM20yJTIxMXNlcy00MTklMjEyc2FyJTIxNHYxNTA5NjI5NDYwMjgzJTIyJTIwd2lkdGglM0QlMjI2MDAlMjIlMjBoZWlnaHQlM0QlMjI0NTAlMjIlMjBmcmFtZWJvcmRlciUzRCUyMjAlMjIlMjBzdHlsZSUzRCUyMmJvcmRlciUzQTAlMjIlMjBhbGxvd2Z1bGxzY3JlZW4lM0UlM0MlMkZpZnJhbWUlM0U=»][/vc_column][/vc_row] \n
URL:https://www.godoycruz.sisargentina.com/evento/vendimias-distritales-centro/
ATTACH;FMTTYPE=image/jpeg:https://www.godoycruz.sisargentina.com/wp-content/uploads/2017/11/web-VENDIMIAS-DISTRITALES-CENTTRO-2.jpg
END:VEVENT
END:VCALENDAR