BEGIN:VCALENDAR
VERSION:2.0
PRODID:-//Godoy Cruz - ECPv4.5.8.1//NONSGML v1.0//EN
CALSCALE:GREGORIAN
METHOD:PUBLISH
X-WR-CALNAME:Godoy Cruz
X-ORIGINAL-URL:https://www.godoycruz.sisargentina.com
X-WR-CALDESC:Events for Godoy Cruz
BEGIN:VEVENT
DTSTART;TZID=UTC-3:20221217T203000
DTEND;TZID=UTC-3:20221217T203000
DTSTAMP:20260421T173411
CREATED:20221202T144653Z
LAST-MODIFIED:20221202T144653Z
UID:95952-1671309000-1671309000@www.godoycruz.sisargentina.com
SUMMARY:Vendimia Departamental de Godoy Cruz
DESCRIPTION:[vc_row][vc_column][vc_column_text]Título: «Danza bajo la magia de los parrales». \nDirección general: Emanuel Tello. \nActo Central. \nElección y coronación de la Reina Departamental de la Vendimia 2023. \nAl cierre: recital de La Skandalosa Tripulación presentando su nuevo disco «Transparente».[/vc_column_text][/vc_column][/vc_row][vc_row][vc_column width=»1/2″][vc_single_image image=»95953″ img_size=»full»][/vc_column][vc_column width=»1/2″][vc_single_image image=»95954″ img_size=»full»][/vc_column][/vc_row] \n
URL:https://www.godoycruz.sisargentina.com/evento/vendimia-departamental-godoy-cruz/
ATTACH;FMTTYPE=image/jpeg:https://www.godoycruz.sisargentina.com/wp-content/uploads/2022/12/317565909_462717669380481_1772425846747622482_n.jpg
END:VEVENT
END:VCALENDAR