BEGIN:VCALENDAR
VERSION:2.0
PRODID:-//Godoy Cruz - ECPv4.5.8.1//NONSGML v1.0//EN
CALSCALE:GREGORIAN
METHOD:PUBLISH
X-WR-CALNAME:Godoy Cruz
X-ORIGINAL-URL:https://www.godoycruz.sisargentina.com
X-WR-CALDESC:Events for Godoy Cruz
BEGIN:VEVENT
DTSTART;TZID=UTC-3:20171216T210000
DTEND;TZID=UTC-3:20171216T210000
DTSTAMP:20260425T210948
CREATED:20171212T175247Z
LAST-MODIFIED:20171212T175247Z
UID:45121-1513458000-1513458000@www.godoycruz.sisargentina.com
SUMMARY:Vendimia Departamental 2018
DESCRIPTION:[vc_row][vc_column][vc_column_text]“Teatro de las Mil Vidas”. Acto Central y coronación de la Reina Departamental. Libreto y dirección general: Francisco Carrasco \n21hs: Fiesta y elección de la soberana de Godoy Cruz \n23hs: «Peña Vendimial». Artistas en vivo y Food Trucks.[/vc_column_text][/vc_column][/vc_row][vc_row][vc_column][vc_single_image image=»45104″ img_size=»Full»][/vc_column][/vc_row][vc_row][vc_column][vc_single_image image=»45106″ img_size=»full»][/vc_column][/vc_row][vc_row][vc_column][vc_gmaps link=»#E-8_JTNDaWZyYW1lJTIwc3JjJTNEJTIyaHR0cHMlM0ElMkYlMkZ3d3cuZ29vZ2xlLmNvbSUyRm1hcHMlMkZlbWJlZCUzRnBiJTNEJTIxMW0xOCUyMTFtMTIlMjExbTMlMjExZDMzNDkuMDI1MzE5NDU3MzAzJTIxMmQtNjguODQzOTE2Nzg1MTk5MDQlMjEzZC0zMi45MjM5MjkyODA5Mjc4MTUlMjEybTMlMjExZjAlMjEyZjAlMjEzZjAlMjEzbTIlMjExaTEwMjQlMjEyaTc2OCUyMTRmMTMuMSUyMTNtMyUyMTFtMiUyMTFzMHg5NjdlMDk2Mjc3Mjg0NTIxJTI1M0EweGVlZjVhZjE4MDZhMTQ5NzMlMjEyc0VzcGFjaW8lMkJWZXJkZSUyQkx1aXMlMkJNZW5vdHRpJTJCUGVzY2FybW9uYSUyMTVlMCUyMTNtMiUyMTFzZXMtNDE5JTIxMnNhciUyMTR2MTUxMzEwMDg5MjQ1MSUyMiUyMHdpZHRoJTNEJTIyNDAwJTIyJTIwaGVpZ2h0JTNEJTIyMzAwJTIyJTIwZnJhbWVib3JkZXIlM0QlMjIwJTIyJTIwc3R5bGUlM0QlMjJib3JkZXIlM0EwJTIyJTIwYWxsb3dmdWxsc2NyZWVuJTNFJTNDJTJGaWZyYW1lJTNF»][/vc_column][/vc_row] \n
URL:https://www.godoycruz.sisargentina.com/evento/vendimia-departamental-2018/
ATTACH;FMTTYPE=image/jpeg:https://www.godoycruz.sisargentina.com/wp-content/uploads/2017/12/placa-vendimia-1.jpg
END:VEVENT
END:VCALENDAR