BEGIN:VCALENDAR
VERSION:2.0
PRODID:-//Godoy Cruz - ECPv4.5.8.1//NONSGML v1.0//EN
CALSCALE:GREGORIAN
METHOD:PUBLISH
X-WR-CALNAME:Godoy Cruz
X-ORIGINAL-URL:https://www.godoycruz.sisargentina.com
X-WR-CALDESC:Events for Godoy Cruz
BEGIN:VEVENT
DTSTART;TZID=UTC-3:20210211T200000
DTEND;TZID=UTC-3:20210211T200000
DTSTAMP:20260423T045115
CREATED:20210210T151227Z
LAST-MODIFIED:20210210T151227Z
UID:74726-1613073600-1613073600@www.godoycruz.sisargentina.com
SUMMARY:Vendimia Barrio Carnaval
DESCRIPTION:[vc_row][vc_column][vc_column_text]Vendimia Barrio Carnaval. \nMúsica y danza al aire libre. Desde las 20 hs. \nRock\, folklore\, tango y ritmos contemporáneos. \nArtistas: \nEscenario Móvil: Los Chimeno. \nParadas: Ballets “Del Pedemonte”\, “Raza Criolla” y “Sangre Cuyana”.[/vc_column_text][/vc_column][/vc_row][vc_row][vc_column][vc_single_image image=»74727″ img_size=»full»][/vc_column][/vc_row] \n
URL:https://www.godoycruz.sisargentina.com/evento/vendimia-barrio-carnaval/
ATTACH;FMTTYPE=image/jpeg:https://www.godoycruz.sisargentina.com/wp-content/uploads/2021/02/Jueves.jpeg
END:VEVENT
END:VCALENDAR