BEGIN:VCALENDAR
VERSION:2.0
PRODID:-//Godoy Cruz - ECPv4.5.8.1//NONSGML v1.0//EN
CALSCALE:GREGORIAN
METHOD:PUBLISH
X-WR-CALNAME:Godoy Cruz
X-ORIGINAL-URL:https://www.godoycruz.sisargentina.com
X-WR-CALDESC:Events for Godoy Cruz
BEGIN:VEVENT
DTSTART;TZID=UTC-3:20210214T200000
DTEND;TZID=UTC-3:20210214T200000
DTSTAMP:20260423T062546
CREATED:20210210T153415Z
LAST-MODIFIED:20210210T153415Z
UID:74744-1613332800-1613332800@www.godoycruz.sisargentina.com
SUMMARY:Vendimia Barrio Carnaval
DESCRIPTION:[vc_row][vc_column][vc_column_text]Vendimia Barrio Carnaval \nMúsica y danza al aire libre. Desde las 20hs. \nRock\, folklore\, tango y ritmos contemporáneos. \nArtistas: \nEscenario Móvil: Las Sobrinas de la Tía \nParadas: Murga Sendero Luminoso; Negros Sudakas; Murga Ave Fénix y  Comparsa de Candombe El Kallo.[/vc_column_text][/vc_column][/vc_row][vc_row][vc_column][vc_single_image image=»74746″ img_size=»full»][/vc_column][/vc_row] \n
URL:https://www.godoycruz.sisargentina.com/evento/vendimia-barrio-carnaval-4/
ATTACH;FMTTYPE=image/jpeg:https://www.godoycruz.sisargentina.com/wp-content/uploads/2021/02/Domingo-1.jpeg
END:VEVENT
END:VCALENDAR