BEGIN:VCALENDAR
VERSION:2.0
PRODID:-//Godoy Cruz - ECPv4.5.8.1//NONSGML v1.0//EN
CALSCALE:GREGORIAN
METHOD:PUBLISH
X-WR-CALNAME:Godoy Cruz
X-ORIGINAL-URL:https://www.godoycruz.sisargentina.com
X-WR-CALDESC:Events for Godoy Cruz
BEGIN:VEVENT
DTSTART;TZID=UTC-3:20220212T213000
DTEND;TZID=UTC-3:20220212T213000
DTSTAMP:20260422T110716
CREATED:20220207T170044Z
LAST-MODIFIED:20220207T170044Z
UID:86327-1644701400-1644701400@www.godoycruz.sisargentina.com
SUMMARY:"Vendimia Para Alquilar Balcones"
DESCRIPTION:[vc_row][vc_column][vc_column_text]Acto central y coronación de la Reina Departamental 2022. \nDirección: Virginia Paes. \nLibreto: Alejandro Pelegrina. \nCanje de entradas (habilitado): 1 entrada válida para 2 personas. \nDonde: Teatro Plaza (Colón 27\, Godoy Cruz). Horario: de 9 a 18 horas. \nSe recibirá: 1 caja de leche (larga vida o en polvo) o 1 paquete de kilo de arroz. \nA beneficio de Banco De Alimentos Mendoza. \nCupos limitados. \nSe ruega puntualidad y cumplir con el protocolo sanitario vigente.[/vc_column_text][/vc_column][/vc_row][vc_row][vc_column][vc_single_image image=»86328″ img_size=»full»][/vc_column][/vc_row] \n
URL:https://www.godoycruz.sisargentina.com/evento/vendimia-alquilar-balcones/
ATTACH;FMTTYPE=image/jpeg:https://www.godoycruz.sisargentina.com/wp-content/uploads/2022/02/WhatsApp-Image-2022-01-27-at-11.29.23.jpeg
END:VEVENT
END:VCALENDAR