BEGIN:VCALENDAR
VERSION:2.0
PRODID:-//Godoy Cruz - ECPv4.5.8.1//NONSGML v1.0//EN
CALSCALE:GREGORIAN
METHOD:PUBLISH
X-WR-CALNAME:Godoy Cruz
X-ORIGINAL-URL:https://www.godoycruz.sisargentina.com
X-WR-CALDESC:Events for Godoy Cruz
BEGIN:VEVENT
DTSTART;TZID=UTC-3:20230713T170000
DTEND;TZID=UTC-3:20230713T170000
DTSTAMP:20260421T065158
CREATED:20230703T160425Z
LAST-MODIFIED:20230703T160425Z
UID:101413-1689267600-1689267600@www.godoycruz.sisargentina.com
SUMMARY:Vacaciones de Invierno en el Teatro Plaza
DESCRIPTION:[vc_row][vc_column][vc_column_text]Llegan diferentes propuestas artísticas para divertirse a pleno. \nFunciones para toda la familia. \nAdquirí tus entradas online en https://bit.ly/VacacionesDeInviernoEnElTeatro o en la boletería del teatro (solo en efectivo) de lunes a sábado\, de 9 a 18. \n¿Quién inventa a Uriel? Teatro La Colombina.[/vc_column_text][/vc_column][/vc_row][vc_row][vc_column][vc_single_image image=»101414″ img_size=»full»][/vc_column][/vc_row] \n
URL:https://www.godoycruz.sisargentina.com/evento/vacaciones-invierno-teatro-plaza-4/
LOCATION:Colón 27\, Godoy Cruz\, Mendoza\, 5501\, Argentina
ATTACH;FMTTYPE=image/jpeg:https://www.godoycruz.sisargentina.com/wp-content/uploads/2023/07/357545225_592558426396404_6689601028176555870_n.jpg
END:VEVENT
END:VCALENDAR