BEGIN:VCALENDAR
VERSION:2.0
PRODID:-//Godoy Cruz - ECPv4.5.8.1//NONSGML v1.0//EN
CALSCALE:GREGORIAN
METHOD:PUBLISH
X-WR-CALNAME:Godoy Cruz
X-ORIGINAL-URL:https://www.godoycruz.sisargentina.com
X-WR-CALDESC:Events for Godoy Cruz
BEGIN:VEVENT
DTSTART;TZID=UTC-3:20230714T163000
DTEND;TZID=UTC-3:20230714T163000
DTSTAMP:20260421T083307
CREATED:20230714T143527Z
LAST-MODIFIED:20230714T143527Z
UID:101646-1689352200-1689352200@www.godoycruz.sisargentina.com
SUMMARY:Vacaciones de Invierno en la B+M
DESCRIPTION:[vc_row][vc_column][vc_column_text]Vení a divertirte en la Biblioteca con obras de títeres para grandes y chicos. \nFunciones para toda la familia. \n«Amor indio» . Burbujas (entradas agotadas).[/vc_column_text][/vc_column][/vc_row][vc_row][vc_column][vc_single_image image=»101645″ img_size=»full»][/vc_column][/vc_row] \n
URL:https://www.godoycruz.sisargentina.com/evento/vacaciones-invierno-la-bm/
LOCATION:Tomba 54\, Godoy Cruz\, Mendoza\, 5501\, Argentina
ATTACH;FMTTYPE=image/jpeg:https://www.godoycruz.sisargentina.com/wp-content/uploads/2023/07/359470964_600469682271945_1757958609869276845_n.jpg
END:VEVENT
END:VCALENDAR