BEGIN:VCALENDAR
VERSION:2.0
PRODID:-//Godoy Cruz - ECPv4.5.8.1//NONSGML v1.0//EN
CALSCALE:GREGORIAN
METHOD:PUBLISH
X-WR-CALNAME:Godoy Cruz
X-ORIGINAL-URL:https://www.godoycruz.sisargentina.com
X-WR-CALDESC:Events for Godoy Cruz
BEGIN:VEVENT
DTSTART;TZID=UTC-3:20230721T163000
DTEND;TZID=UTC-3:20230721T163000
DTSTAMP:20260421T063936
CREATED:20230714T152045Z
LAST-MODIFIED:20230714T152045Z
UID:101667-1689957000-1689957000@www.godoycruz.sisargentina.com
SUMMARY:Vacaciones de Invierno en la B+M
DESCRIPTION:[vc_row][vc_column][vc_column_text]Vení a divertirte en la Biblioteca con obras de títeres para grandes y chicos. \nFunciones para toda la familia. \n«La leyenda de Mur… un cuento de colores» . La valija del sol. \nAdquirí tus entradas online en https://bit.ly/VacacionesDeInviernoEnLaBiblioteca[/vc_column_text][/vc_column][/vc_row][vc_row][vc_column][vc_single_image image=»101669″ img_size=»full»][/vc_column][/vc_row] \n
URL:https://www.godoycruz.sisargentina.com/evento/vacaciones-invierno-la-bm-8/
LOCATION:Tomba 54\, Godoy Cruz\, Mendoza\, 5501\, Argentina
ATTACH;FMTTYPE=image/jpeg:https://www.godoycruz.sisargentina.com/wp-content/uploads/2023/07/WhatsApp-Image-2023-07-14-at-10.56.07-AM-2.jpeg
END:VEVENT
END:VCALENDAR