BEGIN:VCALENDAR
VERSION:2.0
PRODID:-//Godoy Cruz - ECPv4.5.8.1//NONSGML v1.0//EN
CALSCALE:GREGORIAN
METHOD:PUBLISH
X-WR-CALNAME:Godoy Cruz
X-ORIGINAL-URL:https://www.godoycruz.sisargentina.com
X-WR-CALDESC:Events for Godoy Cruz
BEGIN:VEVENT
DTSTART;TZID=UTC-3:20230720T163000
DTEND;TZID=UTC-3:20230720T163000
DTSTAMP:20260421T083434
CREATED:20230717T144024Z
LAST-MODIFIED:20230717T144024Z
UID:101736-1689870600-1689870600@www.godoycruz.sisargentina.com
SUMMARY:Vacaciones de Invierno - El Juego de Milo
DESCRIPTION:[vc_row][vc_column][vc_column_text]Vení a visitar este divertido recorrido inspirado en la obra del artista Milo Lockett. \nPatio de merienda\, juegos y shows artísticos todos los días. \nFunciones a las 16:30 horas. \nEntrada gratuita. \nPorotita y Tatán.[/vc_column_text][/vc_column][/vc_row][vc_row][vc_column][vc_single_image image=»101737″ img_size=»full»][/vc_column][/vc_row] \n
URL:https://www.godoycruz.sisargentina.com/evento/vacaciones-invierno-juego-milo-4/
ATTACH;FMTTYPE=image/jpeg:https://www.godoycruz.sisargentina.com/wp-content/uploads/2023/07/WhatsApp-Image-2023-07-17-at-10.12.27-AM-1.jpeg
END:VEVENT
END:VCALENDAR