BEGIN:VCALENDAR
VERSION:2.0
PRODID:-//Godoy Cruz - ECPv4.5.8.1//NONSGML v1.0//EN
CALSCALE:GREGORIAN
METHOD:PUBLISH
X-WR-CALNAME:Godoy Cruz
X-ORIGINAL-URL:https://www.godoycruz.sisargentina.com
X-WR-CALDESC:Events for Godoy Cruz
BEGIN:VEVENT
DTSTART;TZID=UTC-3:20230716T180000
DTEND;TZID=UTC-3:20230716T180000
DTSTAMP:20260421T083813
CREATED:20230630T155751Z
LAST-MODIFIED:20230630T155751Z
UID:101319-1689530400-1689530400@www.godoycruz.sisargentina.com
SUMMARY:Vacaciones de Invierno - Harry Potter Sinfónico
DESCRIPTION:[vc_row][vc_column][vc_column_text]Concierto a beneficio de Fundavita. \nCon dirección de Mariano Peralta\, La Orquesta Barroca de Mendoza recorrerá la banda sonora de las películas protagonizadas por el personaje de la escritora J.K. Rowling. \nEntradas disponibles en https://bit.ly/HarryPotterSinfonico o en la boletería del teatro (Colón 27\, Godoy Cruz)\, de lunes a sábado de 9 a 18 horas.[/vc_column_text][/vc_column][/vc_row][vc_row][vc_column][vc_single_image image=»101320″ img_size=»full»][/vc_column][/vc_row] \n
URL:https://www.godoycruz.sisargentina.com/evento/vacaciones-invierno-harry-potter-sinfonico/
LOCATION:Colón 27\, Godoy Cruz\, Mendoza\, 5501\, Argentina
ATTACH;FMTTYPE=image/jpeg:https://www.godoycruz.sisargentina.com/wp-content/uploads/2023/06/356423563_591390556513191_8274612816647998176_n.jpg
END:VEVENT
END:VCALENDAR