BEGIN:VCALENDAR
VERSION:2.0
PRODID:-//Godoy Cruz - ECPv4.5.8.1//NONSGML v1.0//EN
CALSCALE:GREGORIAN
METHOD:PUBLISH
X-WR-CALNAME:Godoy Cruz
X-ORIGINAL-URL:https://www.godoycruz.sisargentina.com
X-WR-CALDESC:Events for Godoy Cruz
BEGIN:VEVENT
DTSTART;TZID=UTC-3:20230714T210000
DTEND;TZID=UTC-3:20230714T210000
DTSTAMP:20260421T084128
CREATED:20230630T172105Z
LAST-MODIFIED:20230630T172105Z
UID:101346-1689368400-1689368400@www.godoycruz.sisargentina.com
SUMMARY:Vacaciones de Invierno - 12º Mendoza Rojo Sangre
DESCRIPTION:[vc_row][vc_column][vc_column_text]Cine de terror\, género fantástico y bizarro. \nXII muestra cinematográfica del Festival Buenos Aires Rojo Sangre. \nSe proyectará una selección de las mejores películas que estuvieron en el BARS. \nHabrá tambien una sección de cortometrajes hechos en Mendoza. \nProgramación apta para mayores de 16 años. \nEntrada gratuita. \nCartelera: \n\nCorto mendocino: Ocupado\, de Giuliano Bagorda.\nCorto BARS: Ruta (7 min.+16).\nLargometraje BARS: ¡Agarren la Pala!\, con la presencia del director Matías Lojo. (90 min.+16)\n\n[/vc_column_text][/vc_column][/vc_row][vc_row][vc_column][vc_single_image image=»101334″ img_size=»full»][/vc_column][/vc_row] \n
URL:https://www.godoycruz.sisargentina.com/evento/vacaciones-invierno-12o-mendoza-rojo-sangre-5/
LOCATION:Colón 27\, Godoy Cruz\, Mendoza\, 5501\, Argentina
ATTACH;FMTTYPE=image/jpeg:https://www.godoycruz.sisargentina.com/wp-content/uploads/2023/06/356829090_590687369916843_583078865462313841_n.jpg
END:VEVENT
END:VCALENDAR