BEGIN:VCALENDAR
VERSION:2.0
PRODID:-//Godoy Cruz - ECPv4.5.8.1//NONSGML v1.0//EN
CALSCALE:GREGORIAN
METHOD:PUBLISH
X-WR-CALNAME:Godoy Cruz
X-ORIGINAL-URL:https://www.godoycruz.sisargentina.com
X-WR-CALDESC:Events for Godoy Cruz
BEGIN:VEVENT
DTSTART;TZID=UTC-3:20180323T160000
DTEND;TZID=UTC-3:20180323T160000
DTSTAMP:20260425T164459
CREATED:20180316T164049Z
LAST-MODIFIED:20180316T164049Z
UID:47574-1521820800-1521820800@www.godoycruz.sisargentina.com
SUMMARY:V Encuentro de Artesanos
DESCRIPTION:[vc_row][vc_column][vc_column_text]Parque San Vicente (Av Ing. Cipolletti e Ing. Huergo). De 16:00 a 24:00 \n170 artesanos de todo el país y Chile. Patio de comidas. Espectáculos infantiles. Talleres[/vc_column_text][/vc_column][/vc_row][vc_row][vc_column][vc_single_image image=»47575″ img_size=»full»][/vc_column][/vc_row][vc_row][vc_column][vc_gmaps link=»#E-8_JTNDaWZyYW1lJTIwc3JjJTNEJTIyaHR0cHMlM0ElMkYlMkZ3d3cuZ29vZ2xlLmNvbSUyRm1hcHMlMkZlbWJlZCUzRnBiJTNEJTIxMW0xOCUyMTFtMTIlMjExbTMlMjExZDMzNDguNjk3NDUxNTcxNjg0NyUyMTJkLTY4Ljg1NTc0NjU4NTE5ODglMjEzZC0zMi45MzI1OTA4ODA5MjUyOCUyMTJtMyUyMTFmMCUyMTJmMCUyMTNmMCUyMTNtMiUyMTFpMTAyNCUyMTJpNzY4JTIxNGYxMy4xJTIxM20zJTIxMW0yJTIxMXMweDk2N2UwYmQzZjEwMjMyMzUlMjUzQTB4OWE4Nzg2Yjg5NGY5MDQyMSUyMTJzUGFycXVlJTJCU2FuJTJCVmljZW50ZSUyMTVlMCUyMTNtMiUyMTFzZXMtNDE5JTIxMnNhciUyMTR2MTUyMTIxODE4NjY3MSUyMiUyMHdpZHRoJTNEJTIyNjAwJTIyJTIwaGVpZ2h0JTNEJTIyNDUwJTIyJTIwZnJhbWVib3JkZXIlM0QlMjIwJTIyJTIwc3R5bGUlM0QlMjJib3JkZXIlM0EwJTIyJTIwYWxsb3dmdWxsc2NyZWVuJTNFJTNDJTJGaWZyYW1lJTNF»][/vc_column][/vc_row] \n
URL:https://www.godoycruz.sisargentina.com/evento/v-encuentro-artesanos/
ATTACH;FMTTYPE=image/jpeg:https://www.godoycruz.sisargentina.com/wp-content/uploads/2018/03/web-artesanos.jpg
END:VEVENT
END:VCALENDAR