BEGIN:VCALENDAR
VERSION:2.0
PRODID:-//Godoy Cruz - ECPv4.5.8.1//NONSGML v1.0//EN
CALSCALE:GREGORIAN
METHOD:PUBLISH
X-WR-CALNAME:Godoy Cruz
X-ORIGINAL-URL:https://www.godoycruz.sisargentina.com
X-WR-CALDESC:Events for Godoy Cruz
BEGIN:VEVENT
DTSTART;TZID=UTC-3:20220409T220000
DTEND;TZID=UTC-3:20220409T220000
DTSTAMP:20260422T061534
CREATED:20220329T160432Z
LAST-MODIFIED:20220329T160432Z
UID:88040-1649541600-1649541600@www.godoycruz.sisargentina.com
SUMMARY:URMG: Urquiza + Romero + Malosetti + Giunta
DESCRIPTION:[vc_row][vc_column][vc_column_text]Cuatro destacados músicos de la escena nacional se reúnen en un concierto único. \nReferentes del Jazz argentino despliegan lo mejor del género con un lenguaje sofisticado. \nArtistas: Juan Cruz de Urquiza (trompeta); Guillermo Romero (piano); Javier Malosetti (bajo); Oscar Giunta (batería). \nEntradas en venta: \nBoletería del Teatro Plaza (Colón 27\, Godoy Cruz). Horario de atención: de lunes a sábado\, de 9 a 18h. \nVía online: https://bit.ly/URMGEntradas \nSe ruega puntualidad y cumplir con el protocolo sanitario vigente.[/vc_column_text][/vc_column][/vc_row][vc_row][vc_column][vc_single_image image=»88041″ img_size=»full»][/vc_column][/vc_row] \n
URL:https://www.godoycruz.sisargentina.com/evento/urmg-urquiza-romero-malosetti-giunta/
LOCATION:Colón 27\, Godoy Cruz\, Mendoza\, 5501\, Argentina
ATTACH;FMTTYPE=image/jpeg:https://www.godoycruz.sisargentina.com/wp-content/uploads/2022/03/WhatsApp-Image-2022-03-29-at-10.20.35-AM.jpeg
END:VEVENT
END:VCALENDAR