BEGIN:VCALENDAR
VERSION:2.0
PRODID:-//Godoy Cruz - ECPv4.5.8.1//NONSGML v1.0//EN
CALSCALE:GREGORIAN
METHOD:PUBLISH
X-WR-CALNAME:Godoy Cruz
X-ORIGINAL-URL:https://www.godoycruz.sisargentina.com
X-WR-CALDESC:Events for Godoy Cruz
BEGIN:VEVENT
DTSTART;TZID=UTC-3:20220818T210000
DTEND;TZID=UTC-3:20220821T233000
DTSTAMP:20260422T012900
CREATED:20220809T025323Z
LAST-MODIFIED:20220809T025323Z
UID:91833-1660856400-1661124600@www.godoycruz.sisargentina.com
SUMMARY:"Una semana nada más" en el Cine Teatro Plaza
DESCRIPTION:[vc_row][vc_column][vc_column_text]“Una semana nada más” la comedia protagonizada por Nico Vázquez\, Gime Accardi y Benja Rojas se presenta del 18 al 21 de agosto en nuestro Cine Teatro Plaza.\nVázquez y Accardi encarnan a Pablo y Sofía\, una pareja que era perfecta hasta que decide mudarse a la misma casa y\, en una semana\, tanto ellos como el mejor amigo de Pablo (Rojas) deberán resolver los problemas que se presentan para seguir adelante. \nLa obra es apta para mayores de 13 años. No se permite el ingreso a menores de 6 años. Se permite el ingreso de 6 a 12 años con acompañante.[/vc_column_text][/vc_column][/vc_row][vc_row][vc_column][vc_single_image image=»91834″ img_size=»full»][/vc_column][/vc_row] \n
URL:https://www.godoycruz.sisargentina.com/evento/una-semana-nada-mas-cine-teatro-plaza/
LOCATION:Colon 27\, Godoy Cruz\, Mendoza\, Argentina
ATTACH;FMTTYPE=image/jpeg:https://www.godoycruz.sisargentina.com/wp-content/uploads/2022/08/15.jpeg
END:VEVENT
END:VCALENDAR