BEGIN:VCALENDAR
VERSION:2.0
PRODID:-//Godoy Cruz - ECPv4.5.8.1//NONSGML v1.0//EN
CALSCALE:GREGORIAN
METHOD:PUBLISH
X-WR-CALNAME:Godoy Cruz
X-ORIGINAL-URL:https://www.godoycruz.sisargentina.com
X-WR-CALDESC:Events for Godoy Cruz
BEGIN:VEVENT
DTSTART;TZID=UTC-3:20180608T210000
DTEND;TZID=UTC-3:20180608T210000
DTSTAMP:20260425T123641
CREATED:20180425T173412Z
LAST-MODIFIED:20180425T173412Z
UID:48935-1528491600-1528491600@www.godoycruz.sisargentina.com
SUMMARY:“Un rato con él”
DESCRIPTION:[vc_row][vc_column][vc_column_text]El suceso teatral comienza su gira en distintas ciudades del interior del país y también en Uruguay y Paraguay. \nAutor: Julio Chávez\, Camila Mansilla. \nDirección: Daniel Barone. \nElenco: Julio Chávez\, Adrián Suar\, Marcelo D’Andrea\, Nina Spinetta\, Francisco Lumerman. \nProducción Ejecutiva: Edgardo Ariel Alba. Producción General: Adrián Suar\, Nacho Laviaguerre. \nEntradas en venta en boletería del teatro. Venta online: 1000tickets.com.ar.[/vc_column_text][/vc_column][/vc_row][vc_row][vc_column][vc_single_image image=»48936″ img_size=»full»][/vc_column][/vc_row] \n
URL:https://www.godoycruz.sisargentina.com/evento/un-rato-con-el/
LOCATION:Colón 27\, Godoy Cruz\, Mendoza\, 5501\, Argentina
ATTACH;FMTTYPE=image/jpeg:https://www.godoycruz.sisargentina.com/wp-content/uploads/2018/04/Un-rato-con-el-Aviso-diario.jpg
END:VEVENT
END:VCALENDAR