BEGIN:VCALENDAR
VERSION:2.0
PRODID:-//Godoy Cruz - ECPv4.5.8.1//NONSGML v1.0//EN
CALSCALE:GREGORIAN
METHOD:PUBLISH
X-WR-CALNAME:Godoy Cruz
X-ORIGINAL-URL:https://www.godoycruz.sisargentina.com
X-WR-CALDESC:Events for Godoy Cruz
BEGIN:VEVENT
DTSTART;TZID=UTC-3:20230521T200000
DTEND;TZID=UTC-3:20230521T200000
DTSTAMP:20260421T094820
CREATED:20230420T153522Z
LAST-MODIFIED:20230516T152718Z
UID:99406-1684699200-1684699200@www.godoycruz.sisargentina.com
SUMMARY:Un Plan Perfecto
DESCRIPTION:[vc_row][vc_column][vc_column_text]Llega al Teatro Plaza una comedia para no parar de reír. \nUna pintoresca galería de personajes protagoniza las más disparatadas situaciones en este Plan Perfecto. \nElenco: Pedro Alfonso\, Paula Chaves\, Pachu Peña\, Marcela Kloosterboer\, Rodrigo Noya\, Camilo Nicolás y Agustina Agazzani. \nLas entradas se pueden obtener vía online en  https://bit.ly/EntradasUnPlanPerfecto o en la boletería del teatro\, de lunes a sábado de 9 a 18hs.[/vc_column_text][/vc_column][/vc_row][vc_row][vc_column][vc_single_image image=»100106″ img_size=»full»][/vc_column][/vc_row] \n
URL:https://www.godoycruz.sisargentina.com/evento/un-plan-perfecto-4/
LOCATION:Colón 27\, Godoy Cruz\, Mendoza\, 5501\, Argentina
ATTACH;FMTTYPE=image/jpeg:https://www.godoycruz.sisargentina.com/wp-content/uploads/2023/04/343983090_772324271181566_636542418269315783_n.jpg
END:VEVENT
END:VCALENDAR