BEGIN:VCALENDAR
VERSION:2.0
PRODID:-//Godoy Cruz - ECPv4.5.8.1//NONSGML v1.0//EN
CALSCALE:GREGORIAN
METHOD:PUBLISH
X-WR-CALNAME:Godoy Cruz
X-ORIGINAL-URL:https://www.godoycruz.sisargentina.com
X-WR-CALDESC:Events for Godoy Cruz
BEGIN:VEVENT
DTSTART;TZID=UTC-3:20190511T170000
DTEND;TZID=UTC-3:20190511T170000
DTSTAMP:20260424T161522
CREATED:20190429T143535Z
LAST-MODIFIED:20190429T143535Z
UID:58777-1557594000-1557594000@www.godoycruz.sisargentina.com
SUMMARY:Tus amigos de la granja y sus canciones
DESCRIPTION:[vc_row][vc_column][vc_column_text]Espectáculo musical infantil. \nEntradas en venta en boletería y www.tuentrada.com  \n [/vc_column_text][/vc_column][/vc_row][vc_row][vc_column][vc_single_image image=»58778″ img_size=»full»][/vc_column][/vc_row] \n
URL:https://www.godoycruz.sisargentina.com/evento/tus-amigos-la-granja-canciones/
LOCATION:Colón 27\, Godoy Cruz\, Mendoza\, 5501\, Argentina
ATTACH;FMTTYPE=image/jpeg:https://www.godoycruz.sisargentina.com/wp-content/uploads/2019/04/PHOTO-2019-03-21-10-42-53.jpg
END:VEVENT
END:VCALENDAR