BEGIN:VCALENDAR
VERSION:2.0
PRODID:-//Godoy Cruz - ECPv4.5.8.1//NONSGML v1.0//EN
CALSCALE:GREGORIAN
METHOD:PUBLISH
X-WR-CALNAME:Godoy Cruz
X-ORIGINAL-URL:https://www.godoycruz.sisargentina.com
X-WR-CALDESC:Events for Godoy Cruz
BEGIN:VEVENT
DTSTART;TZID=UTC-3:20210501T090000
DTEND;TZID=UTC-3:20210501T090000
DTSTAMP:20260422T232412
CREATED:20210424T161540Z
LAST-MODIFIED:20210424T161540Z
UID:76967-1619859600-1619859600@www.godoycruz.sisargentina.com
SUMMARY:"Travesía Fotográfica por Godoy Cruz"
DESCRIPTION:[vc_row][vc_column][vc_column_text]Concurso destinado a aficionados de la fotografía mayores de 18 años. \nTemática: a definir por el jurado el mismo día del certamen. \nInscripción gratuita y cupos limitados. \nPremios:\nPrimer premio: $10.000 (diez mil) pesos argentinos\nSegundo premio: $5.000 (cinco mil) pesos argentinos\nTercer premio: $3.000 (tres mil) pesos argentinos\nSe emitirán tres menciones especiales a criterio del jurado. \nInscripciones: http://bit.ly/InscripcionTravesiaFotografica \nBases y condiciones: http://bit.ly/BasesTravesiaFotografica[/vc_column_text][/vc_column][/vc_row][vc_row][vc_column][vc_single_image image=»76968″ img_size=»full»][/vc_column][/vc_row] \n
URL:https://www.godoycruz.sisargentina.com/evento/travesia-fotografica-godoy-cruz/
ATTACH;FMTTYPE=image/jpeg:https://www.godoycruz.sisargentina.com/wp-content/uploads/2021/04/177625078_1563216937197211_1153608289031119542_n.jpg
END:VEVENT
END:VCALENDAR