BEGIN:VCALENDAR
VERSION:2.0
PRODID:-//Godoy Cruz - ECPv4.5.8.1//NONSGML v1.0//EN
CALSCALE:GREGORIAN
METHOD:PUBLISH
X-WR-CALNAME:Godoy Cruz
X-ORIGINAL-URL:https://www.godoycruz.sisargentina.com
X-WR-CALDESC:Events for Godoy Cruz
BEGIN:VEVENT
DTSTART;TZID=UTC-3:20211023T213000
DTEND;TZID=UTC-3:20211023T213000
DTSTAMP:20260422T154339
CREATED:20211019T133820Z
LAST-MODIFIED:20211019T133820Z
UID:82933-1635024600-1635024600@www.godoycruz.sisargentina.com
SUMMARY:Trasandino\, la vida es un casting
DESCRIPTION:[vc_row][vc_column][vc_column_text]Llega una nueva función de la comedia de Francisco «Pancho» Carrasco. \nCon una gran despliegue técnico y artístico\, la obra sigue a un actor en su camino a la fama. \nDirección\, guión y puesta en escena: Francisco Carrasco \nActor Principal: Francisco Carrasco. \nProducción Ejecutiva: Valentín Mexandeau. \nProducción General: Francisco Carrasco. \nEntradas en venta:\nBoletería del Teatro Plaza (Colón 27\, Godoy Cruz). Horario de atención: de lunes a sábado\, de 9 a 18h.\nVía online: https://bit.ly/EntradasTrasandino. \nCupos limitados. Se ruega puntualidad y cumplir con el protocolo sanitario vigente.[/vc_column_text][/vc_column][/vc_row][vc_row][vc_column][vc_single_image image=»82934″ img_size=»full»][/vc_column][/vc_row] \n
URL:https://www.godoycruz.sisargentina.com/evento/trasandino-la-vida-casting-2/
LOCATION:Colón 27\, Godoy Cruz\, Mendoza\, 5501\, Argentina
ATTACH;FMTTYPE=image/jpeg:https://www.godoycruz.sisargentina.com/wp-content/uploads/2021/10/Trasandino-2.jpeg
END:VEVENT
END:VCALENDAR