BEGIN:VCALENDAR
VERSION:2.0
PRODID:-//Godoy Cruz - ECPv4.5.8.1//NONSGML v1.0//EN
CALSCALE:GREGORIAN
METHOD:PUBLISH
X-WR-CALNAME:Godoy Cruz
X-ORIGINAL-URL:https://www.godoycruz.sisargentina.com
X-WR-CALDESC:Events for Godoy Cruz
BEGIN:VEVENT
DTSTART;TZID=UTC-3:20240203T193000
DTEND;TZID=UTC-3:20240203T193000
DTSTAMP:20260420T165448
CREATED:20240201T152845Z
LAST-MODIFIED:20240201T152845Z
UID:107095-1706988600-1706988600@www.godoycruz.sisargentina.com
SUMMARY:Títeres en el Barrio
DESCRIPTION:[vc_row][vc_column][vc_column_text]Reconocidos elencos actuarán en las tardes de verano\, con obras para que disfrute toda la familia. \nObra: «La leyenda de Mur… un cuento de colores»\, Elenco: La valija del sol. \nUnión Vecinal La Gran Manzana\, Bº FOECyT. \nEntrada gratuita.[/vc_column_text][/vc_column][/vc_row][vc_row][vc_column][vc_single_image image=»107096″ img_size=»full»][/vc_column][/vc_row] \n
URL:https://www.godoycruz.sisargentina.com/evento/titeres-en-el-barrio-5/
ATTACH;FMTTYPE=image/jpeg:https://www.godoycruz.sisargentina.com/wp-content/uploads/2024/02/WhatsApp-Image-2024-02-01-at-10.41.02-AM-1.jpeg
END:VEVENT
END:VCALENDAR