BEGIN:VCALENDAR
VERSION:2.0
PRODID:-//Godoy Cruz - ECPv4.5.8.1//NONSGML v1.0//EN
CALSCALE:GREGORIAN
METHOD:PUBLISH
X-WR-CALNAME:Godoy Cruz
X-ORIGINAL-URL:https://www.godoycruz.sisargentina.com
X-WR-CALDESC:Events for Godoy Cruz
BEGIN:VEVENT
DTSTART;TZID=UTC-3:20240217T193000
DTEND;TZID=UTC-3:20240217T193000
DTSTAMP:20260420T183509
CREATED:20240215T153343Z
LAST-MODIFIED:20240215T153343Z
UID:107336-1708198200-1708198200@www.godoycruz.sisargentina.com
SUMMARY:Títeres en el Barrio
DESCRIPTION:[vc_row][vc_column][vc_column_text]Reconocidos elencos actuarán en las tardes de verano\, con obras para que disfrute toda la familia. \nObra: “Periquita y sus amigos”\, Elenco: La Pericana. \nParque Mitre. \nEntrada gratuita.[/vc_column_text][/vc_column][/vc_row][vc_row][vc_column][vc_single_image image=»107338″ img_size=»full»][/vc_column][/vc_row] \n
URL:https://www.godoycruz.sisargentina.com/evento/titeres-en-el-barrio-10/
ATTACH;FMTTYPE=image/jpeg:https://www.godoycruz.sisargentina.com/wp-content/uploads/2024/02/WhatsApp-Image-2024-02-15-at-10.32.59-AM.jpeg
END:VEVENT
END:VCALENDAR