BEGIN:VCALENDAR
VERSION:2.0
PRODID:-//Godoy Cruz - ECPv4.5.8.1//NONSGML v1.0//EN
CALSCALE:GREGORIAN
METHOD:PUBLISH
X-WR-CALNAME:Godoy Cruz
X-ORIGINAL-URL:https://www.godoycruz.sisargentina.com
X-WR-CALDESC:Events for Godoy Cruz
BEGIN:VEVENT
DTSTART;TZID=UTC-3:20171008T210000
DTEND;TZID=UTC-3:20171008T210000
DTSTAMP:20260426T012849
CREATED:20170930T040657Z
LAST-MODIFIED:20170930T040919Z
UID:42555-1507496400-1507496400@www.godoycruz.sisargentina.com
SUMMARY:The Jazz and Swing Show \, de La Sparkling Big Band
DESCRIPTION:[vc_row][vc_column][vc_column_text]El poderoso ensamble llega a Godoy Cruz con un show renovado.[/vc_column_text][vc_single_image image=»42556″ img_size=»full»][/vc_column][/vc_row] \n
URL:https://www.godoycruz.sisargentina.com/evento/the-jazz-and-swing-show-la-sparkling-big-band/
LOCATION:Colón 27\, Godoy Cruz\, Mendoza\, 5501\, Argentina
ATTACH;FMTTYPE=image/jpeg:https://www.godoycruz.sisargentina.com/wp-content/uploads/2017/09/sparkling-show-1.jpg
END:VEVENT
END:VCALENDAR