BEGIN:VCALENDAR
VERSION:2.0
PRODID:-//Godoy Cruz - ECPv4.5.8.1//NONSGML v1.0//EN
CALSCALE:GREGORIAN
METHOD:PUBLISH
X-WR-CALNAME:Godoy Cruz
X-ORIGINAL-URL:https://www.godoycruz.sisargentina.com
X-WR-CALDESC:Events for Godoy Cruz
BEGIN:VEVENT
DTSTART;TZID=UTC-3:20230907T220000
DTEND;TZID=UTC-3:20230907T220000
DTSTAMP:20260421T013926
CREATED:20230814T154125Z
LAST-MODIFIED:20230814T154125Z
UID:102605-1694124000-1694124000@www.godoycruz.sisargentina.com
SUMMARY:The Beats presenta "Bienvenidos"
DESCRIPTION:[vc_row][vc_column][vc_column_text]La banda tributo a The Beatles trae su nuevo espectáculo\, con las mejores canciones del cuarteto de Liverpool. \nCon más de 30 años de trayectoria\, el grupo recrea la mística de Paul McCartney y compañía con un especial detalle a diversos aspectos. \nThe Beats fue nombrada como “La Mejor Banda Beatle del Mundo». \nComprá tus entradas online en https://bit.ly/EntradaTheBeats o por la boletería del Teatro Plaza (solo efectivo)\, de lunes a sábado\, de 9 a 18H.[/vc_column_text][/vc_column][/vc_row][vc_row][vc_column][vc_single_image image=»102606″ img_size=»full»][/vc_column][/vc_row] \n
URL:https://www.godoycruz.sisargentina.com/evento/the-beats-presenta-bienvenidos/
LOCATION:Colón 27\, Godoy Cruz\, Mendoza\, 5501\, Argentina
ATTACH;FMTTYPE=image/jpeg:https://www.godoycruz.sisargentina.com/wp-content/uploads/2023/08/363365568_622420209976808_7974565260504027508_n.jpg
END:VEVENT
END:VCALENDAR