BEGIN:VCALENDAR
VERSION:2.0
PRODID:-//Godoy Cruz - ECPv4.5.8.1//NONSGML v1.0//EN
CALSCALE:GREGORIAN
METHOD:PUBLISH
X-WR-CALNAME:Godoy Cruz
X-ORIGINAL-URL:https://www.godoycruz.sisargentina.com
X-WR-CALDESC:Events for Godoy Cruz
BEGIN:VEVENT
DTSTART;TZID=UTC-3:20210320T213000
DTEND;TZID=UTC-3:20210320T213000
DTSTAMP:20260423T020742
CREATED:20210308T163815Z
LAST-MODIFIED:20210308T163815Z
UID:75501-1616275800-1616275800@www.godoycruz.sisargentina.com
SUMMARY:Terraza Cinema
DESCRIPTION:[vc_row][vc_column][vc_column_text]Ciclo Terraza Cinema. \nPelícula: “The man who knew too much” (El hombre que sabía demasiado). \nDir: Alfred Hitchcock. \nCupos limitados. \nEntrada gratuita.[/vc_column_text][/vc_column][/vc_row][vc_row][vc_column][vc_single_image image=»75498″ img_size=»full»][/vc_column][/vc_row] \n
URL:https://www.godoycruz.sisargentina.com/evento/terraza-cinema-2/
LOCATION:Tomba 54\, Godoy Cruz\, Mendoza\, 5501\, Argentina
ATTACH;FMTTYPE=image/jpeg:https://www.godoycruz.sisargentina.com/wp-content/uploads/2021/03/158033796_1962832243873044_7154750010724728683_o.jpg
END:VEVENT
END:VCALENDAR