BEGIN:VCALENDAR
VERSION:2.0
PRODID:-//Godoy Cruz - ECPv4.5.8.1//NONSGML v1.0//EN
CALSCALE:GREGORIAN
METHOD:PUBLISH
X-WR-CALNAME:Godoy Cruz
X-ORIGINAL-URL:https://www.godoycruz.sisargentina.com
X-WR-CALDESC:Events for Godoy Cruz
BEGIN:VEVENT
DTSTART;TZID=UTC-3:20240210T213000
DTEND;TZID=UTC-3:20240210T213000
DTSTAMP:20260420T165130
CREATED:20240208T145939Z
LAST-MODIFIED:20240208T145939Z
UID:107238-1707600600-1707600600@www.godoycruz.sisargentina.com
SUMMARY:Teatro Lambe Lambe
DESCRIPTION:[vc_row][vc_column][vc_column_text]La plaza mayor se convierte en una sala teatral a cielo abierto\, con aventuras para espiar. \nNumerosos artistas traen cajas\, que cuentan historias protagonizadas por títeres a pequeña escala \nProgramación: \nEnclenque Teatro de Títeres presenta: “Poste Restante”. \nMicro Cosmos Presenta: “El viaje de Ajayu”. \nMadame Butterfly\, versión libre de la Ópera de Giacomo Puccini. \nGise Rodriguez Presenta “Delia”. \nCecilia Soler Presenta “Agua”. \nDani Moreno Presenta “Sin Cist3ma”. \nEntrada gratuita.[/vc_column_text][/vc_column][/vc_row][vc_row][vc_column][vc_single_image image=»107239″ img_size=»full»][/vc_column][/vc_row] \n
URL:https://www.godoycruz.sisargentina.com/evento/teatro-lambe-lambe/
ATTACH;FMTTYPE=image/jpeg:https://www.godoycruz.sisargentina.com/wp-content/uploads/2024/02/425768193_711921081026295_5566791834919604983_n.jpg
END:VEVENT
END:VCALENDAR