BEGIN:VCALENDAR
VERSION:2.0
PRODID:-//Godoy Cruz - ECPv4.5.8.1//NONSGML v1.0//EN
CALSCALE:GREGORIAN
METHOD:PUBLISH
X-WR-CALNAME:Godoy Cruz
X-ORIGINAL-URL:https://www.godoycruz.sisargentina.com
X-WR-CALDESC:Events for Godoy Cruz
BEGIN:VEVENT
DTSTART;TZID=UTC-3:20240121T170000
DTEND;TZID=UTC-3:20240121T170000
DTSTAMP:20260420T183438
CREATED:20240119T133617Z
LAST-MODIFIED:20240119T133617Z
UID:106781-1705856400-1705856400@www.godoycruz.sisargentina.com
SUMMARY:Tarde de juegos de mesa en la B+M
DESCRIPTION:[vc_row][vc_column][vc_column_text]Vení a compartir una tarde a pura diversión\, con una gran variedad de juegos y dinámicas\, a cargo de MendoZen.\nCoordina: Mendozen (Munir Ots).\nCupo: 50 personas.\nDescripción: esta propuesta consiste en habilitar un espacio donde se van a ofrecer diferentes tipos de juegos\, con profesionales que explicarán la dinámica de cada uno.\nCupos limitados.\nMás información: monots1@gmail.com[/vc_column_text][/vc_column][/vc_row][vc_row][vc_column][vc_single_image image=»106782″ img_size=»full»][/vc_column][/vc_row] \n
URL:https://www.godoycruz.sisargentina.com/evento/tarde-juegos-mesa-la-bm/
LOCATION:Tomba 54\, Godoy Cruz\, Mendoza\, 5501\, Argentina
ATTACH;FMTTYPE=image/jpeg:https://www.godoycruz.sisargentina.com/wp-content/uploads/2024/01/420290737_701361778849401_6674799231397199251_n.jpg
END:VEVENT
END:VCALENDAR