BEGIN:VCALENDAR
VERSION:2.0
PRODID:-//Godoy Cruz - ECPv4.5.8.1//NONSGML v1.0//EN
CALSCALE:GREGORIAN
METHOD:PUBLISH
X-WR-CALNAME:Godoy Cruz
X-ORIGINAL-URL:https://www.godoycruz.sisargentina.com
X-WR-CALDESC:Events for Godoy Cruz
BEGIN:VEVENT
DTSTART;TZID=UTC-3:20211009T203000
DTEND;TZID=UTC-3:20211009T203000
DTSTAMP:20260422T155500
CREATED:20211007T154103Z
LAST-MODIFIED:20211007T154103Z
UID:82599-1633811400-1633811400@www.godoycruz.sisargentina.com
SUMMARY:Tango por los Caminos del Vino 2021
DESCRIPTION:[vc_row][vc_column][vc_column_text]Conciertos al aire libre y degustación de vinos. \nConjuntos y artistas: \nRicardo Di Maria y la Orquesta de los Categóricos Diamantes. \nTrio Godoy Cruz con Érica Ritman. \nAdquirí tu entrada vía online en https://shortest.link/1emO \nMáximo de 2 (dos) entradas por persona. \nCupos limitados. Se ruega puntualidad y cumplir con el protocolo sanitario vigente.[/vc_column_text][/vc_column][/vc_row][vc_row][vc_column][vc_single_image image=»82600″ img_size=»full»][/vc_column][/vc_row] \n
URL:https://www.godoycruz.sisargentina.com/evento/tango-los-caminos-del-vino-2021/
ATTACH;FMTTYPE=image/jpeg:https://www.godoycruz.sisargentina.com/wp-content/uploads/2021/10/MDIA-e9841984.jpg
END:VEVENT
END:VCALENDAR