BEGIN:VCALENDAR
VERSION:2.0
PRODID:-//Godoy Cruz - ECPv4.5.8.1//NONSGML v1.0//EN
CALSCALE:GREGORIAN
METHOD:PUBLISH
X-WR-CALNAME:Godoy Cruz
X-ORIGINAL-URL:https://www.godoycruz.sisargentina.com
X-WR-CALDESC:Events for Godoy Cruz
BEGIN:VEVENT
DTSTART;TZID=UTC-3:20190205T190000
DTEND;TZID=UTC-3:20190205T190000
DTSTAMP:20260424T221456
CREATED:20190114T161835Z
LAST-MODIFIED:20190114T161835Z
UID:56410-1549393200-1549393200@www.godoycruz.sisargentina.com
SUMMARY:Taller de Maquillaje Artístico
DESCRIPTION:[vc_row][vc_column][vc_column_text]Del 5 al 28 de febrero.Para mayores de 14 años. \nMartes y jueves (8 clases). Capacitador: Salvador Romano (Maquillador profesional). \nDe 19:00 a 22:30. \nCosto: $500 (Cupos limitados). \nConsultas e Inscripciones: Cine Teatro Plaza\, 1º piso (Colón 27)\, de 9:00 a 14:00.[/vc_column_text][/vc_column][/vc_row][vc_row][vc_column][vc_single_image image=»56413″ img_size=»full»][/vc_column][/vc_row] \n
URL:https://www.godoycruz.sisargentina.com/evento/taller-maquillaje-artistico/
ATTACH;FMTTYPE=image/jpeg:https://www.godoycruz.sisargentina.com/wp-content/uploads/2019/01/taller-maquillaje-artistico.jpg
END:VEVENT
END:VCALENDAR