BEGIN:VCALENDAR
VERSION:2.0
PRODID:-//Godoy Cruz - ECPv4.5.8.1//NONSGML v1.0//EN
CALSCALE:GREGORIAN
METHOD:PUBLISH
X-WR-CALNAME:Godoy Cruz
X-ORIGINAL-URL:https://www.godoycruz.sisargentina.com
X-WR-CALDESC:Events for Godoy Cruz
BEGIN:VEVENT
DTSTART;TZID=UTC-3:20190328T180000
DTEND;TZID=UTC-3:20190328T180000
DTSTAMP:20260424T205545
CREATED:20190320T160922Z
LAST-MODIFIED:20190320T160922Z
UID:57920-1553796000-1553796000@www.godoycruz.sisargentina.com
SUMMARY:Taller de Lengua de Señas (AGOTADO)
DESCRIPTION:[vc_row][vc_column][vc_column_text]jueves 28 de Marzo. \nSe dictará todos los jueves de 18:00hs a 19:30hs. \nA cargo del Tec. en Interpretación de Lengua de Señas Nicolás Reynaga y Walter Sales\, Instructor en Lengua de Señas. Cupos limitados. Gratuito. \nInscripciones y consultas al 4133250.[/vc_column_text][/vc_column][/vc_row][vc_row][vc_column][vc_single_image image=»57921″ img_size=»full»][/vc_column][/vc_row] \n
URL:https://www.godoycruz.sisargentina.com/evento/taller-lengua-senas-agotado/
ATTACH;FMTTYPE=image/jpeg:https://www.godoycruz.sisargentina.com/wp-content/uploads/2019/03/IMG-20190318-WA0014.jpg
END:VEVENT
END:VCALENDAR