BEGIN:VCALENDAR
VERSION:2.0
PRODID:-//Godoy Cruz - ECPv4.5.8.1//NONSGML v1.0//EN
CALSCALE:GREGORIAN
METHOD:PUBLISH
X-WR-CALNAME:Godoy Cruz
X-ORIGINAL-URL:https://www.godoycruz.sisargentina.com
X-WR-CALDESC:Events for Godoy Cruz
BEGIN:VEVENT
DTSTART;TZID=UTC-3:20190116T100000
DTEND;TZID=UTC-3:20190116T100000
DTSTAMP:20260424T235133
CREATED:20190114T152822Z
LAST-MODIFIED:20190114T152822Z
UID:56406-1547632800-1547632800@www.godoycruz.sisargentina.com
SUMMARY:Taller “Introducción a la Lectura Musical”
DESCRIPTION:[vc_row][vc_column][vc_column_text]Desde el 16 de enero al 1 de febrero. \nMiércoles y viernes (6 clases). Capacitador: Dante Ochoa. \nDe 10:00 a 12:30 o de 18:00 a 20:30. \nCosto: $500 (Cupos limitados). \nConsultas e Inscripciones: 2615182462/dodecanto@hotmail.com[/vc_column_text][/vc_column][/vc_row][vc_row][vc_column][vc_single_image image=»56407″ img_size=»full»][/vc_column][/vc_row] \n
URL:https://www.godoycruz.sisargentina.com/evento/taller-introduccion-la-lectura-musical/
ATTACH;FMTTYPE=image/jpeg:https://www.godoycruz.sisargentina.com/wp-content/uploads/2019/01/taller-lectura-musical-face.jpg
END:VEVENT
END:VCALENDAR