BEGIN:VCALENDAR
VERSION:2.0
PRODID:-//Godoy Cruz - ECPv4.5.8.1//NONSGML v1.0//EN
CALSCALE:GREGORIAN
METHOD:PUBLISH
X-WR-CALNAME:Godoy Cruz
X-ORIGINAL-URL:https://www.godoycruz.sisargentina.com
X-WR-CALDESC:Events for Godoy Cruz
BEGIN:VEVENT
DTSTART;TZID=UTC-3:20190202T103000
DTEND;TZID=UTC-3:20190202T103000
DTSTAMP:20260424T223106
CREATED:20190114T171342Z
LAST-MODIFIED:20190114T171342Z
UID:56422-1549103400-1549103400@www.godoycruz.sisargentina.com
SUMMARY:Taller de Iniciación a la Meditación
DESCRIPTION:[vc_row][vc_column][vc_column_text]Desde el 2 de febrero. No se requieren conocimientos previos. \nSábados de febrero (4 clases). Capacitadora: Martina Lanatti (Maestra de meditación). \nDe 10:30 a 12:00. Costo: $300 (Cupos limitados). \nConsultas e Inscripciones: 02616297090/martinaclanatti@gmail.com \n[/vc_column_text][/vc_column][/vc_row][vc_row][vc_column][vc_single_image image=»56420″ img_size=»full»][/vc_column][/vc_row] \n
URL:https://www.godoycruz.sisargentina.com/evento/taller-iniciacion-la-meditacion/
ATTACH;FMTTYPE=image/jpeg:https://www.godoycruz.sisargentina.com/wp-content/uploads/2019/01/taller-meditacion.jpg
END:VEVENT
END:VCALENDAR