BEGIN:VCALENDAR
VERSION:2.0
PRODID:-//Godoy Cruz - ECPv4.5.8.1//NONSGML v1.0//EN
CALSCALE:GREGORIAN
METHOD:PUBLISH
X-WR-CALNAME:Godoy Cruz
X-ORIGINAL-URL:https://www.godoycruz.sisargentina.com
X-WR-CALDESC:Events for Godoy Cruz
BEGIN:VEVENT
DTSTART;TZID=UTC-3:20190405T180000
DTEND;TZID=UTC-3:20190405T180000
DTSTAMP:20260424T221131
CREATED:20190320T163050Z
LAST-MODIFIED:20190320T163050Z
UID:57930-1554487200-1554487200@www.godoycruz.sisargentina.com
SUMMARY:Taller de Meditación
DESCRIPTION:[vc_row][vc_column][vc_column_text]4 viernes de abril\, comenzando el viernes 5 de abril. \nSe dictará de 18:00hs a 20:00hs. \nA cargo de la maestra de meditación Martina Lanatti. Cupos limitados. Valor: $500. \nConsultas e inscripciones al 02616297090\, martinaclanatti@gmail.com o al 4133250.[/vc_column_text][/vc_column][/vc_row][vc_row][vc_column][vc_single_image image=»57931″ img_size=»full»][/vc_column][/vc_row] \n
URL:https://www.godoycruz.sisargentina.com/evento/taller-de-meditacion/
ATTACH;FMTTYPE=image/jpeg:https://www.godoycruz.sisargentina.com/wp-content/uploads/2019/03/IMG-20190318-WA0013.jpg
END:VEVENT
END:VCALENDAR