BEGIN:VCALENDAR
VERSION:2.0
PRODID:-//Godoy Cruz - ECPv4.5.8.1//NONSGML v1.0//EN
CALSCALE:GREGORIAN
METHOD:PUBLISH
X-WR-CALNAME:Godoy Cruz
X-ORIGINAL-URL:https://www.godoycruz.sisargentina.com
X-WR-CALDESC:Events for Godoy Cruz
BEGIN:VEVENT
DTSTART;TZID=UTC-3:20220609T200000
DTEND;TZID=UTC-3:20220609T200000
DTSTAMP:20260422T031945
CREATED:20220606T024505Z
LAST-MODIFIED:20220606T024505Z
UID:90052-1654804800-1654804800@www.godoycruz.sisargentina.com
SUMMARY:TALLER DE COMPOSICIÓN FOTOGRÁFICA EN LA CASA DE CULTURA Y LA MEMORIA
DESCRIPTION:[vc_row][vc_column][vc_column_text]El Taller de Composición Fotográfica busca facilitar herramientas para fotógrafos/as. Se trabajaran temas como: formas generales de composición fotográfica\, simetrías\, tipos de encuadres\, planos\, entre otros.[/vc_column_text][/vc_column][/vc_row][vc_row][vc_column][vc_single_image image=»90053″ img_size=»FULL»][/vc_column][/vc_row] \n
URL:https://www.godoycruz.sisargentina.com/evento/taller-composicion-fotografica-la-casa-cultura-la-memoria/
LOCATION:Lavalle 88\, Godoy Cruz\, Mendoza (sólo Deptos. Capital\, Luján de Cuyo\, Las Heras\, Maipú\, Guaymallén\, Godoy Cruz\, Tunuyán y Tupungato)\, 5519\, Argentina
ATTACH;FMTTYPE=image/png:https://www.godoycruz.sisargentina.com/wp-content/uploads/2022/06/fotografia-para-fotografos.png
END:VEVENT
END:VCALENDAR