BEGIN:VCALENDAR
VERSION:2.0
PRODID:-//Godoy Cruz - ECPv4.5.8.1//NONSGML v1.0//EN
CALSCALE:GREGORIAN
METHOD:PUBLISH
X-WR-CALNAME:Godoy Cruz
X-ORIGINAL-URL:https://www.godoycruz.sisargentina.com
X-WR-CALDESC:Events for Godoy Cruz
BEGIN:VEVENT
DTSTART;TZID=UTC-3:20180421T100000
DTEND;TZID=UTC-3:20180421T100000
DTSTAMP:20260425T151113
CREATED:20180411T172345Z
LAST-MODIFIED:20180411T172345Z
UID:48436-1524304800-1524304800@www.godoycruz.sisargentina.com
SUMMARY:Taller de arte y creatividad de insectos con semillas
DESCRIPTION:[vc_row][vc_column][vc_column_text]Fechas: sábados 21 y 28 de abril – 5 y 12 de mayo. \nTallerista: Martín Terrarossa. \nHora: de 10:00 a 12:00. \nEntrada gratuita. Cupos: 15 personas (desde los 10 años)[/vc_column_text][/vc_column][/vc_row][vc_row][vc_column][vc_single_image image=»48437″ img_size=»full»][/vc_column][/vc_row] \n
URL:https://www.godoycruz.sisargentina.com/evento/taller-arte-creatividad-insectos-semillas/
LOCATION:Tomba 54\, Godoy Cruz\, Mendoza\, 5501\, Argentina
ATTACH;FMTTYPE=image/jpeg:https://www.godoycruz.sisargentina.com/wp-content/uploads/2018/04/web-taller-de-insectos-ok-2-1.jpg
END:VEVENT
END:VCALENDAR