BEGIN:VCALENDAR
VERSION:2.0
PRODID:-//Godoy Cruz - ECPv4.5.8.1//NONSGML v1.0//EN
CALSCALE:GREGORIAN
METHOD:PUBLISH
X-WR-CALNAME:Godoy Cruz
X-ORIGINAL-URL:https://www.godoycruz.sisargentina.com
X-WR-CALDESC:Events for Godoy Cruz
BEGIN:VEVENT
DTSTART;TZID=UTC-3:20220606T200000
DTEND;TZID=UTC-3:20220606T200000
DTSTAMP:20260422T044224
CREATED:20220606T021331Z
LAST-MODIFIED:20220606T025855Z
UID:90040-1654545600-1654545600@www.godoycruz.sisargentina.com
SUMMARY:TALLER DE ARMONÍA Y COMPOSICIÓN EN LA CASA DE LA CULTURA Y LA MEMORIA
DESCRIPTION:[vc_row][vc_column][vc_column_text]El Taller de Armonía\, Composición\, Arreglos y Orquestación trabajará temas como contrapunto\, arreglos para cuerdas y otros instrumentos\, composición de armonía \, arreglos y orquestas. Esta destinado a músicos en general sin o con conocimientos previos a través de herramientas de música clásica y música popular. \nTaller gratuito con inscripción.[/vc_column_text][/vc_column][/vc_row][vc_row][vc_column][vc_single_image image=»90038″ img_size=»full»][/vc_column][/vc_row] \n
URL:https://www.godoycruz.sisargentina.com/evento/taller-armonia-composicion-la-casa-la-cultura-la-memoria/
LOCATION:Lavalle 88\, Godoy Cruz\, Mendoza (sólo Deptos. Capital\, Luján de Cuyo\, Las Heras\, Maipú\, Guaymallén\, Godoy Cruz\, Tunuyán y Tupungato)\, 5519\, Argentina
ATTACH;FMTTYPE=image/png:https://www.godoycruz.sisargentina.com/wp-content/uploads/2022/06/taller-de-composicion.png
END:VEVENT
END:VCALENDAR