BEGIN:VCALENDAR
VERSION:2.0
PRODID:-//Godoy Cruz - ECPv4.5.8.1//NONSGML v1.0//EN
CALSCALE:GREGORIAN
METHOD:PUBLISH
X-WR-CALNAME:Godoy Cruz
X-ORIGINAL-URL:https://www.godoycruz.sisargentina.com
X-WR-CALDESC:Events for Godoy Cruz
BEGIN:VEVENT
DTSTART;TZID=UTC-3:20220513T210000
DTEND;TZID=UTC-3:20220513T210000
DTSTAMP:20260422T042716
CREATED:20220428T043332Z
LAST-MODIFIED:20220428T043332Z
UID:88962-1652475600-1652475600@www.godoycruz.sisargentina.com
SUMMARY:Supernatural - Tributo a Carlos Santana
DESCRIPTION:[vc_row][vc_column][vc_column_text]Llega al Cine Teatro Plaza «Supernatural»\, un recorrido por lo mejor del repertorio del legendario guitarrista Carlos Santana.[/vc_column_text][/vc_column][/vc_row][vc_row][vc_column][vc_single_image image=»88963″ img_size=»full»][/vc_column][/vc_row] \n
URL:https://www.godoycruz.sisargentina.com/evento/supernatural-tributo-carlos-santana/
LOCATION:Colon 27\, Godoy Cruz\, Mendoza\, Argentina
ATTACH;FMTTYPE=image/jpeg:https://www.godoycruz.sisargentina.com/wp-content/uploads/2022/04/MDIA-d8da0ff2.jpg
END:VEVENT
END:VCALENDAR