BEGIN:VCALENDAR
VERSION:2.0
PRODID:-//Godoy Cruz - ECPv4.5.8.1//NONSGML v1.0//EN
CALSCALE:GREGORIAN
METHOD:PUBLISH
X-WR-CALNAME:Godoy Cruz
X-ORIGINAL-URL:https://www.godoycruz.sisargentina.com
X-WR-CALDESC:Events for Godoy Cruz
BEGIN:VEVENT
DTSTART;TZID=UTC-3:20220206T200000
DTEND;TZID=UTC-3:20220206T200000
DTSTAMP:20260422T093518
CREATED:20220202T153730Z
LAST-MODIFIED:20220202T153730Z
UID:86198-1644177600-1644177600@www.godoycruz.sisargentina.com
SUMMARY:Supermercarte Edición Vendimia
DESCRIPTION:[vc_row][vc_column][vc_column_text]Obras de arte. Música en vivo. Foodtrucks. \nArtistas: Dúo Pinto – Colombo + Mariana Päraway. \nEntrada gratuita y cupos limitados \nSe ruega puntualidad y cumplir con el protocolo sanitario vigente.[/vc_column_text][/vc_column][/vc_row][vc_row][vc_column][vc_single_image image=»86181″ img_size=»full»][/vc_column][/vc_row] \n
URL:https://www.godoycruz.sisargentina.com/evento/supermercarte-edicion-vendimia-3/
ATTACH;FMTTYPE=image/jpeg:https://www.godoycruz.sisargentina.com/wp-content/uploads/2022/02/WhatsApp-Image-2022-02-01-at-14.20.55.jpeg
END:VEVENT
END:VCALENDAR