BEGIN:VCALENDAR
VERSION:2.0
PRODID:-//Godoy Cruz - ECPv4.5.8.1//NONSGML v1.0//EN
CALSCALE:GREGORIAN
METHOD:PUBLISH
X-WR-CALNAME:Godoy Cruz
X-ORIGINAL-URL:https://www.godoycruz.sisargentina.com
X-WR-CALDESC:Events for Godoy Cruz
BEGIN:VEVENT
DTSTART;TZID=UTC-3:20230624T210000
DTEND;TZID=UTC-3:20230624T210000
DTSTAMP:20260421T081230
CREATED:20230601T151826Z
LAST-MODIFIED:20230601T151826Z
UID:100581-1687640400-1687640400@www.godoycruz.sisargentina.com
SUMMARY:Suena Clásica en Godoy Cruz
DESCRIPTION:[vc_row][vc_column][vc_column_text]El ciclo de conciertos recorrerá Godoy Cruz\, para disfrutar de la música clásica con destacados artistas de nuestra provincia. \nArtistas: Orquesta Barroca de Mendoza. Graciela Armendariz; Gloria López\, Marcelo Zelada\, Ruben Caparotta. \nDirección: Mariano Peralta \nArias\, dúos y trios de óperas. \nEntradas a la venta en entradaweb.com o en la boletería del teatro\, de lunes a sábado de 9 a 18 hs.[/vc_column_text][/vc_column][/vc_row][vc_row][vc_column][vc_single_image image=»100582″ img_size=»full»][/vc_column][/vc_row] \n
URL:https://www.godoycruz.sisargentina.com/evento/suena-clasica-godoy-cruz-3/
LOCATION:Colón 27\, Godoy Cruz\, Mendoza\, 5501\, Argentina
ATTACH;FMTTYPE=image/jpeg:https://www.godoycruz.sisargentina.com/wp-content/uploads/2023/06/WhatsApp-Image-2023-06-01-at-10.31.41-AM-1.jpeg
END:VEVENT
END:VCALENDAR