BEGIN:VCALENDAR
VERSION:2.0
PRODID:-//Godoy Cruz - ECPv4.5.8.1//NONSGML v1.0//EN
CALSCALE:GREGORIAN
METHOD:PUBLISH
X-WR-CALNAME:Godoy Cruz
X-ORIGINAL-URL:https://www.godoycruz.sisargentina.com
X-WR-CALDESC:Events for Godoy Cruz
BEGIN:VEVENT
DTSTART;TZID=UTC-3:20230618T203000
DTEND;TZID=UTC-3:20230618T203000
DTSTAMP:20260421T113433
CREATED:20230601T151035Z
LAST-MODIFIED:20230601T151035Z
UID:100578-1687120200-1687120200@www.godoycruz.sisargentina.com
SUMMARY:Suena Clásica en Godoy Cruz
DESCRIPTION:[vc_row][vc_column][vc_column_text]El ciclo de conciertos recorrerá Godoy Cruz\, para disfrutar de la música clásica con destacados artistas de nuestra provincia. \nArtistas: Vientos del Plata (Irina Gruzska y Lucas Ramallo) y Dúo Gabriel Sánchez & Ruy Facó.[/vc_column_text][/vc_column][/vc_row][vc_row][vc_column][vc_single_image image=»100575″ img_size=»full»][/vc_column][/vc_row] \n
URL:https://www.godoycruz.sisargentina.com/evento/suena-clasica-godoy-cruz-2/
ATTACH;FMTTYPE=image/jpeg:https://www.godoycruz.sisargentina.com/wp-content/uploads/2023/06/WhatsApp-Image-2023-06-01-at-10.31.42-AM.jpeg
END:VEVENT
END:VCALENDAR