BEGIN:VCALENDAR
VERSION:2.0
PRODID:-//Godoy Cruz - ECPv4.5.8.1//NONSGML v1.0//EN
CALSCALE:GREGORIAN
METHOD:PUBLISH
X-WR-CALNAME:Godoy Cruz
X-ORIGINAL-URL:https://www.godoycruz.sisargentina.com
X-WR-CALDESC:Events for Godoy Cruz
BEGIN:VEVENT
DTSTART;TZID=UTC-3:20220905T100000
DTEND;TZID=UTC-3:20220909T170000
DTSTAMP:20260421T222337
CREATED:20220907T224815Z
LAST-MODIFIED:20220907T224815Z
UID:92794-1662372000-1662742800@www.godoycruz.sisargentina.com
SUMMARY:Sucedió en colores
DESCRIPTION:[vc_row][vc_column][vc_column_text]Llega la segunda edición de Sucedió en Colores\, un ciclo en el que nuestra Reina Lucila Baigorria y Virreina Camila Pelaez Da Dalt recorrerán los Jardines Maternales Municipales junto al Circo de Getulio para compartir un momento con los más chicos [/vc_column_text][/vc_column][/vc_row][vc_row][vc_column][vc_single_image image=»92795″][/vc_column][/vc_row] \n
URL:https://www.godoycruz.sisargentina.com/evento/sucedio-en-colores/
ATTACH;FMTTYPE=image/jpeg:https://www.godoycruz.sisargentina.com/wp-content/uploads/2022/09/sucedio-en-colores.jpg
END:VEVENT
END:VCALENDAR