BEGIN:VCALENDAR
VERSION:2.0
PRODID:-//Godoy Cruz - ECPv4.5.8.1//NONSGML v1.0//EN
CALSCALE:GREGORIAN
METHOD:PUBLISH
X-WR-CALNAME:Godoy Cruz
X-ORIGINAL-URL:https://www.godoycruz.sisargentina.com
X-WR-CALDESC:Events for Godoy Cruz
BEGIN:VEVENT
DTSTART;TZID=UTC-3:20180422T130000
DTEND;TZID=UTC-3:20180422T130000
DTSTAMP:20260425T152743
CREATED:20180406T175822Z
LAST-MODIFIED:20180406T175822Z
UID:48182-1524402000-1524402000@www.godoycruz.sisargentina.com
SUMMARY:Star Wars EXPO Mendoza
DESCRIPTION:[vc_row][vc_column][vc_column_text]Exposición inspirada en la aclamada película de ciencia ficción. Expositores\, cosplayers\, sorteos y mucho más. \nMuseo Ferroviario y Domo Cultural (Parque Estación Benegas – Av. del Trabajo y Panamericana). De 13:00 a 21:00. Entrada libre y gratuita[/vc_column_text][/vc_column][/vc_row][vc_row][vc_column][vc_single_image image=»48183″ img_size=»full»][/vc_column][/vc_row][vc_row][vc_column][vc_gmaps link=»#E-8_JTNDaWZyYW1lJTIwc3JjJTNEJTIyaHR0cHMlM0ElMkYlMkZ3d3cuZ29vZ2xlLmNvbSUyRm1hcHMlMkZlbWJlZCUzRnBiJTNEJTIxMW0xOCUyMTFtMTIlMjExbTMlMjExZDMzNDcuOTQ3MjYxMTEyNzg2MiUyMTJkLTY4Ljg1NTg4NzQ4NTE5ODI3JTIxM2QtMzIuOTUyNDAxNzgwOTE5MzQlMjEybTMlMjExZjAlMjEyZjAlMjEzZjAlMjEzbTIlMjExaTEwMjQlMjEyaTc2OCUyMTRmMTMuMSUyMTNtMyUyMTFtMiUyMTFzMHg5NjdlMGJiNDE2NzNhYWQ1JTI1M0EweDRkNmI3M2Q5MGZmNWZjYWYlMjEyc1BhcnF1ZSUyQkVzdGFjaW9uJTJCQmVuZWdhcyUyMTVlMCUyMTNtMiUyMTFzZXMtNDE5JTIxMnNhciUyMTR2MTUyMzAzNzE3NjQ4MiUyMiUyMHdpZHRoJTNEJTIyNjAwJTIyJTIwaGVpZ2h0JTNEJTIyNDUwJTIyJTIwZnJhbWVib3JkZXIlM0QlMjIwJTIyJTIwc3R5bGUlM0QlMjJib3JkZXIlM0EwJTIyJTIwYWxsb3dmdWxsc2NyZWVuJTNFJTNDJTJGaWZyYW1lJTNF»][/vc_column][/vc_row] \n
URL:https://www.godoycruz.sisargentina.com/evento/star-wars-expo-mendoza/
ATTACH;FMTTYPE=image/jpeg:https://www.godoycruz.sisargentina.com/wp-content/uploads/2018/04/web-star-wars.jpg
END:VEVENT
END:VCALENDAR