BEGIN:VCALENDAR
VERSION:2.0
PRODID:-//Godoy Cruz - ECPv4.5.8.1//NONSGML v1.0//EN
CALSCALE:GREGORIAN
METHOD:PUBLISH
X-WR-CALNAME:Godoy Cruz
X-ORIGINAL-URL:https://www.godoycruz.sisargentina.com
X-WR-CALDESC:Events for Godoy Cruz
BEGIN:VEVENT
DTSTART;TZID=UTC-3:20230721T220000
DTEND;TZID=UTC-3:20230721T220000
DTSTAMP:20260421T081223
CREATED:20230717T155549Z
LAST-MODIFIED:20230717T155549Z
UID:101748-1689976800-1689976800@www.godoycruz.sisargentina.com
SUMMARY:Stand Up Comedy Show (entradas agotadas)
DESCRIPTION:[vc_row][vc_column][vc_column_text]El comediante furor en redes sociales Federico Cyrulnik llega a Godoy Cruz con la segunda temporada de su show. \nEn su espectáculo propone un recorrido sobre el comportamiento de las personas según su signo. \nPor entradas agotadas: nueva función 9 de septiembre a las 22 horas. \nConseguí tu entrada para el nuevo espectáculo en la boletería del teatro (Colón 27)\, de lunes a sábado de 9 a 18 o en www.entradaweb.com[/vc_column_text][/vc_column][/vc_row][vc_row][vc_column][vc_single_image image=»101749″ img_size=»full»][/vc_column][/vc_row] \n
URL:https://www.godoycruz.sisargentina.com/evento/stand-up-comedy-show-entradas-agotadas/
LOCATION:Colón 27\, Godoy Cruz\, Mendoza\, 5501\, Argentina
ATTACH;FMTTYPE=image/jpeg:https://www.godoycruz.sisargentina.com/wp-content/uploads/2023/07/360115899_615916783960484_1474552218645032713_n.jpg
END:VEVENT
END:VCALENDAR