BEGIN:VCALENDAR
VERSION:2.0
PRODID:-//Godoy Cruz - ECPv4.5.8.1//NONSGML v1.0//EN
CALSCALE:GREGORIAN
METHOD:PUBLISH
X-WR-CALNAME:Godoy Cruz
X-ORIGINAL-URL:https://www.godoycruz.sisargentina.com
X-WR-CALDESC:Events for Godoy Cruz
BEGIN:VEVENT
DTSTART;TZID=UTC-3:20210924T210000
DTEND;TZID=UTC-3:20210924T210000
DTSTAMP:20260422T172429
CREATED:20210913T150907Z
LAST-MODIFIED:20210913T150907Z
UID:81713-1632517200-1632517200@www.godoycruz.sisargentina.com
SUMMARY:Spaghetti Western y Orquesta Escuela Maipufónica
DESCRIPTION:[vc_row][vc_column][vc_column_text]Recital en vivo de la banda mendocina y La Maipufónica. \nLa Spaghetti repasará los mejores temas de sus dos discos de estudio. \nDirección: Marina Pena \nArreglos: Juan Olguin. \nEntradas en venta:\nBoletería del Teatro Plaza (Colón 27\, Godoy Cruz). Horario de atención: de lunes a viernes\, de 8:30 a 14:00h.\nVía online:https://bit.ly/EntradasSpaguettiWestern \nCupos limitados. Se ruega puntualidad y cumplir con el protocolo sanitario vigente.[/vc_column_text][/vc_column][/vc_row][vc_row][vc_column][vc_single_image image=»81714″ img_size=»full»][/vc_column][/vc_row] \n
URL:https://www.godoycruz.sisargentina.com/evento/spaghetti-western-orquesta-escuela-maipufonica/
LOCATION:Colón 27\, Godoy Cruz\, Mendoza\, 5501\, Argentina
ATTACH;FMTTYPE=image/jpeg:https://www.godoycruz.sisargentina.com/wp-content/uploads/2021/09/WhatsApp-Image-2021-08-24-at-13.10.55-1.jpeg
END:VEVENT
END:VCALENDAR