BEGIN:VCALENDAR
VERSION:2.0
PRODID:-//Godoy Cruz - ECPv4.5.8.1//NONSGML v1.0//EN
CALSCALE:GREGORIAN
METHOD:PUBLISH
X-WR-CALNAME:Godoy Cruz
X-ORIGINAL-URL:https://www.godoycruz.sisargentina.com
X-WR-CALDESC:Events for Godoy Cruz
BEGIN:VEVENT
DTSTART;TZID=UTC-3:20230527T200000
DTEND;TZID=UTC-3:20230527T200000
DTSTAMP:20260421T111007
CREATED:20230522T170642Z
LAST-MODIFIED:20230522T170642Z
UID:100308-1685217600-1685217600@www.godoycruz.sisargentina.com
SUMMARY:Spaghetti Western en Espacio Arizu
DESCRIPTION:[vc_row][vc_column][vc_column_text]La poderosa banda mendocina vuelve a los escenarios para mostrar todas sus canciones en un show imperdible. \nAdquirí tu entrada online en bit.ly/EntradasSpaghettiWestern.[/vc_column_text][/vc_column][/vc_row][vc_row][vc_column][vc_single_image image=»100310″ img_size=»full»][/vc_column][/vc_row] \n
URL:https://www.godoycruz.sisargentina.com/evento/spaghetti-western-espacio-arizu/
ATTACH;FMTTYPE=image/jpeg:https://www.godoycruz.sisargentina.com/wp-content/uploads/2023/05/WhatsApp-Image-2023-05-22-at-1.34.58-PM-2.jpeg
END:VEVENT
END:VCALENDAR