BEGIN:VCALENDAR
VERSION:2.0
PRODID:-//Godoy Cruz - ECPv4.5.8.1//NONSGML v1.0//EN
CALSCALE:GREGORIAN
METHOD:PUBLISH
X-WR-CALNAME:Godoy Cruz
X-ORIGINAL-URL:https://www.godoycruz.sisargentina.com
X-WR-CALDESC:Events for Godoy Cruz
BEGIN:VEVENT
DTSTART;TZID=UTC-3:20190831T203000
DTEND;TZID=UTC-3:20190831T203000
DTSTAMP:20260424T073349
CREATED:20190807T150639Z
LAST-MODIFIED:20190807T150639Z
UID:61595-1567283400-1567283400@www.godoycruz.sisargentina.com
SUMMARY:Sin Atril en concierto
DESCRIPTION:[vc_row][vc_column][vc_column_text]Show de jazz. \nBanda: Miguel Ángel Guisasola\, Eduardo Sansoni\, Juan Manuel Valverde y Mario Zamorano. \nEntrada: contribución voluntaria.[/vc_column_text][/vc_column][/vc_row][vc_row][vc_column][vc_single_image image=»61596″ img_size=»full»][/vc_column][/vc_row] \n
URL:https://www.godoycruz.sisargentina.com/evento/sin-atril-concierto/
LOCATION:Tomba 54\, Godoy Cruz\, Mendoza\, 5501\, Argentina
ATTACH;FMTTYPE=image/jpeg:https://www.godoycruz.sisargentina.com/wp-content/uploads/2019/08/WEB-AGOSTO-31.jpg
END:VEVENT
END:VCALENDAR