BEGIN:VCALENDAR
VERSION:2.0
PRODID:-//Godoy Cruz - ECPv4.5.8.1//NONSGML v1.0//EN
CALSCALE:GREGORIAN
METHOD:PUBLISH
X-WR-CALNAME:Godoy Cruz
X-ORIGINAL-URL:https://www.godoycruz.sisargentina.com
X-WR-CALDESC:Events for Godoy Cruz
BEGIN:VEVENT
DTSTART;TZID=UTC-3:20190507T200000
DTEND;TZID=UTC-3:20190507T200000
DTSTAMP:20260424T132748
CREATED:20190424T174225Z
LAST-MODIFIED:20190424T174225Z
UID:58726-1557259200-1557259200@www.godoycruz.sisargentina.com
SUMMARY:Seminario Teatral
DESCRIPTION:[vc_row][vc_column][vc_column_text]Método de Reinvención Teatral (MRT). \nDictado por Valeria Deragña\, de mayo a noviembre. \nDirigido a personas con o sin conocimiento de teatro\, mayores de 20 años. Cupos limitados. Informes e inscripciones: 2613424091.  \n[/vc_column_text][/vc_column][/vc_row][vc_row][vc_column][vc_single_image image=»58727″ img_size=»full»][/vc_column][/vc_row] \n
URL:https://www.godoycruz.sisargentina.com/evento/seminario-teatral/
LOCATION:Tomba 54\, Godoy Cruz\, Mendoza\, 5501\, Argentina
ATTACH;FMTTYPE=image/jpeg:https://www.godoycruz.sisargentina.com/wp-content/uploads/2019/04/FB_IMG_1550543365906.jpg
END:VEVENT
END:VCALENDAR