BEGIN:VCALENDAR
VERSION:2.0
PRODID:-//Godoy Cruz - ECPv4.5.8.1//NONSGML v1.0//EN
CALSCALE:GREGORIAN
METHOD:PUBLISH
X-WR-CALNAME:Godoy Cruz
X-ORIGINAL-URL:https://www.godoycruz.sisargentina.com
X-WR-CALDESC:Events for Godoy Cruz
BEGIN:VEVENT
DTSTART;TZID=UTC-3:20230324T200000
DTEND;TZID=UTC-3:20230324T200000
DTSTAMP:20260421T144710
CREATED:20230321T153406Z
LAST-MODIFIED:20230321T153406Z
UID:98524-1679688000-1679688000@www.godoycruz.sisargentina.com
SUMMARY:Semana de la Memoria - "Argentina\, 1985"
DESCRIPTION:[vc_row][vc_column][vc_column_text]Proyección pública de la pelicula nacional “Argentina 1985”. \nCharla con Mariano Llinas\, guionista de la cinta protagonizada por Ricardo Darín y Peter Lanzani. \nEntrada libre y gratuita.[/vc_column_text][/vc_column][/vc_row][vc_row][vc_column][vc_single_image image=»98525″ img_size=»full»][/vc_column][/vc_row] \n
URL:https://www.godoycruz.sisargentina.com/evento/semana-la-memoria-argentina-1985/
ATTACH;FMTTYPE=image/jpeg:https://www.godoycruz.sisargentina.com/wp-content/uploads/2023/03/335304027_597926268856340_5722883600356023670_n.jpg
END:VEVENT
END:VCALENDAR